BEGIN:VCALENDAR
VERSION:2.0
PRODID:Events Booking
BEGIN:VEVENT
UID:69e9ff64c37ec
SUMMARY:O FAZER PSI: DA FORMAÇÃO À PRODUÇÃO DO CUIDADO NO CONTEXTO HOS
 PITALAR
DESCRIPTION:O Curso de Psicologia\, do Centro Universitário Fibra\, tem a 
 honra de convidar a comunidade universitária (interna e externa) e demais
  interessados\, para o SEMINÁRIO DE PSICOLOGIA HOSPITALAR. Com o tema \" 
 O FAZER PSI: DA FORMAÇÃO À PRODUÇÃO DO CUIDADO NO CONTEXTO HOSPITALAR
  \"\, tem como OBJETIVO discutir as diversas nuances da Psicologia na áre
 a hospitalar\, desde à formação até a perspectiva de atuação na áre
 a\, passando por temos sensíveis como oncologia e cuidados paliativos. Co
 ntará com a participação de profissionais com reconhecida atuação na 
 área\, bem como de acadêmicos do Curso de Psicologia (6º e 8º semestre
 s) da Fibra\, relatando suas experiências de estágios na área. Venha vo
 cê também fazer parte desse momento de formação e aprendizagens!
 
LOCATION:Av. Gentil Bittencourt\, 1144.
DTSTART:20250910T113000Z
DTEND:20250911T001500Z
DTSTAMP:20250909T142115Z
ORGANIZER;CN=Portal de Eventos - Centro Universitário Fibra:MAILTO:eventos
 @fibrapara.edu.br
GEO:-1.455183;-48.482397
X-APPLE-STRUCTURED-LOCATION;VALUE=URI;X-ADDRESS=Av. Gentil Bittencourt\, 11
 44.;X-APPLE-RADIUS=72;X-TITLE=Centro Universitário Fibra:-1.455183;-48.48
 2397
END:VEVENT
END:VCALENDAR