BEGIN:VCALENDAR
VERSION:2.0
PRODID:Events Booking
BEGIN:VEVENT
UID:69e94ac98550c
SUMMARY:Visita Técnica: Observação do comportamento animal: Técnicas e 
 aplicação no manejo
DESCRIPTION:
LOCATION:Avenida Governador Magalhães Barata\, Belém\, 66040-170 Pará\, 
 Brasil
DTSTART:20250902T180000Z
DTEND:20250902T210000Z
DTSTAMP:20250821T135049Z
ORGANIZER;CN=Portal de Eventos - Centro Universitário Fibra:MAILTO:eventos
 @fibrapara.edu.br
GEO:-1.453306;-48.476567
X-APPLE-STRUCTURED-LOCATION;VALUE=URI;X-ADDRESS=Avenida Governador Magalhã
 es Barata\, Belém\, 66040-170 Pará\, Brasil;X-APPLE-RADIUS=72;X-TITLE=Mu
 seu Emílio Goeldi:-1.453306;-48.476567
END:VEVENT
END:VCALENDAR