BEGIN:VCALENDAR
VERSION:2.0
PRODID:Events Booking
BEGIN:VEVENT
UID:69e901cb8e829
SUMMARY:I Simpósio em alusão a semana do Agronegócio
DESCRIPTION:Em um mundo em constante evolução\, o agronegócio desempe
 nha um papel fundamental na garantia da saúde animal\, da segurança al
 imentar global e da preservação do meio ambiente. O conjunto de operac
 ̧ões da cadeia produtiva\, do trabalho agropecuário até a comercial
 ização é o significado da palavra agronegócio e dia 25 de fevereir
 o é a data da sua comemoração. E para celebrar esta data\, este even
 to reúne profissionais\, para explorar temas relevantes sobre animais de
  produção e agronegócio.
 Público Alvo: Estudantes de Medicina Ve
 terinária e Médicos Veterinários
 
LOCATION:Av. Gentil Bittencourt\, 1144.
DTSTART:20250227T170000Z
DTEND:20250227T210000Z
DTSTAMP:20250224T152113Z
ORGANIZER;CN=Portal de Eventos - Centro Universitário Fibra:MAILTO:eventos
 @fibrapara.edu.br
GEO:-1.455183;-48.482397
X-APPLE-STRUCTURED-LOCATION;VALUE=URI;X-ADDRESS=Av. Gentil Bittencourt\, 11
 44.;X-APPLE-RADIUS=72;X-TITLE=Centro Universitário Fibra:-1.455183;-48.48
 2397
END:VEVENT
END:VCALENDAR