BEGIN:VCALENDAR
VERSION:2.0
PRODID:Events Booking
BEGIN:VEVENT
UID:69e949a6668d4
SUMMARY:Roteiro Histórico-Literário: Theatro da Paz – A Arte da Amazôn
 ia na Belle Époque
DESCRIPTION:Como parte da programação da atividade&nbsp\;Fibra Vai à Pra
 ça\, os cursos de Letras e História do Centro Universitário Fibra reali
 zarão\, no domingo\,&nbsp\;13 de abril\, o&nbsp\;Roteiro Histórico- Lite
 rário: Theatro da Paz – A Arte da Amazônia na Belle Époque\, uma visi
 ta guiada a um dos maiores símbolos da cultura amazônica: o Theatro da P
 az.
 A atividade será conduzida pelo Prof. Dr.&nbsp\;Marcos Valério Rei
 s&nbsp\;e pela Profa. Dra.&nbsp\;Dayseanne Ferraz\, com início às&nbsp\;
 10h da manhã\, e será limitada a&nbsp\;40 participantes.
 Não perca es
 sa oportunidade de vivenciar a história\, a arte e a literatura em um dos
  espaços mais emblemáticos de Belém do Pará.
 
DTSTART:20250413T130000Z
DTEND:20250413T150000Z
DTSTAMP:20250409T035050Z
ORGANIZER;CN=Portal de Eventos - Centro Universitário Fibra:MAILTO:eventos
 @fibrapara.edu.br
END:VEVENT
END:VCALENDAR