BEGIN:VCALENDAR
VERSION:2.0
PRODID:Events Booking
BEGIN:VEVENT
UID:69e9ff272d814
SUMMARY:Classificação de risco em urgência e emergência
DESCRIPTION:A classificação de risco é uma ferramenta utilizada nos serv
 iços de&nbsp\;urgência e emergência\, voltada para avaliar e identifica
 r os pacientes que necessitam de atendimento prioritário\, de acordo com 
 a gravidade clínica\, potencial de&nbsp\;risco\, agravos à saúde ou gra
 u de sofrimento.
 A turma será iniciada com pelo menos 20 inscritos.
 
LOCATION:Av. Gentil Bittencourt\, 1144.
DTSTART:20240316T110000Z
DTEND:20240316T150000Z
DTSTAMP:20240131T201559Z
ORGANIZER;CN=Portal de Eventos - Centro Universitário Fibra:MAILTO:eventos
 @fibrapara.edu.br
GEO:-1.455183;-48.482397
X-APPLE-STRUCTURED-LOCATION;VALUE=URI;X-ADDRESS=Av. Gentil Bittencourt\, 11
 44.;X-APPLE-RADIUS=72;X-TITLE=Centro Universitário Fibra:-1.455183;-48.48
 2397
END:VEVENT
END:VCALENDAR