BEGIN:VCALENDAR
VERSION:2.0
PRODID:Events Booking
BEGIN:VEVENT
UID:69e9f90f77af5
SUMMARY:Super Revisão Dto Trabalho com Studio Jurídico
DESCRIPTION:Super Revisão Dto Trabalho com Studio Jurídico
 
LOCATION:Av. Gentil Bittencourt\, 1144.
DTSTART:20250607T120000Z
DTEND:20250607T150000Z
DTSTAMP:20250519T221727Z
ORGANIZER;CN=Portal de Eventos - Centro Universitário Fibra:MAILTO:eventos
 @fibrapara.edu.br
GEO:-1.455183;-48.482397
X-APPLE-STRUCTURED-LOCATION;VALUE=URI;X-ADDRESS=Av. Gentil Bittencourt\, 11
 44.;X-APPLE-RADIUS=72;X-TITLE=Centro Universitário Fibra:-1.455183;-48.48
 2397
END:VEVENT
END:VCALENDAR