BEGIN:VCALENDAR
VERSION:2.0
PRODID:Events Booking
BEGIN:VEVENT
UID:69e9f91b150ff
SUMMARY:Revisão 2ª Fase OAB - Direito do Trabalho
DESCRIPTION:Aulão de Direito do Trabalho para a 2ª fase da OAB com a Prof
 essora Luiza Albuquerque.
 
LOCATION:Av. Gentil Bittencourt\, 1144.
DTSTART:20251004T120000Z
DTEND:20251004T150000Z
DTSTAMP:20250930T171437Z
ORGANIZER;CN=Portal de Eventos - Centro Universitário Fibra:MAILTO:eventos
 @fibrapara.edu.br
GEO:-1.455183;-48.482397
X-APPLE-STRUCTURED-LOCATION;VALUE=URI;X-ADDRESS=Av. Gentil Bittencourt\, 11
 44.;X-APPLE-RADIUS=72;X-TITLE=Centro Universitário Fibra:-1.455183;-48.48
 2397
END:VEVENT
END:VCALENDAR