BEGIN:VCALENDAR
VERSION:2.0
PRODID:Events Booking
BEGIN:VEVENT
UID:69e9465e149f8
SUMMARY:SEMINÁRIO TEMÁTICO QUESTÕES SOCIOAMBIENTAIS: IMPACTOS NA SAÚDE 
 E NA EDUCAÇÃO
DESCRIPTION:Bem-vindo ao Seminário de Questões Socioambientais: Impactos 
 sobre a Saúde e a Educação! Este evento é uma oportunidade imperdível
  para discutir e refletir sobre a interseção entre questões socioambien
 tais e seus impactos na saúde e na educação.
 Organizado pelos acadêm
 icos do 6º e 8º semestres do curso de Pedagogia\, o seminário visa prom
 over um diálogo enriquecedor entre acadêmicos\, profissionais e comunida
 de sobre como fatores socioambientais influenciam a qualidade de vida e o 
 processo educativo.
 Importância do Seminário:O seminário pretende apr
 ofundar a compreensão sobre como questões como poluição\, mudanças cl
 imáticas e desigualdades socioeconômicas afetam não apenas a saúde da 
 população\, mas também a eficácia dos sistemas educacionais. Através 
 de palestras\, painéis e discussões\, buscamos identificar soluções e 
 estratégias que podem ser implementadas para mitigar esses impactos.
 Ob
 jetivo do Evento:1. Promover a consciência :Informar os participantes sob
 re os impactos das questões socioambientais na saúde e na educação.2. 
 Fomentar o debate: Criar um espaço para discussão de soluções prática
 s e políticas.3. Fortalecer a colaboração: Incentivar a colaboração e
 ntre diferentes setores da sociedade para enfrentar desafios comuns.
 &nb
 sp\;
 Não perca a chance de fazer a diferença! Inscreva-se agora e junt
 e-se a nós para explorar e contribuir para soluções inovadoras e eficaz
 es para os desafios socioambientais que impactam nossa saúde e educação
 . Contamos com sua presença!
 &nbsp\;
 Transforme a sua inscrição em 
 um ato de solidariedade: ao se inscrever no nosso seminário\, traga um it
 em de higiene pessoal para doação e ajude a fazer a diferença na vida d
 e quem mais precisa. Receberemos os materiais no dia do evento e sua contr
 ibuição será um gesto valioso de apoio!
 
LOCATION:Av. Gentil Bittencourt\, 1144.
DTSTART:20240827T213000Z
DTEND:20240828T010000Z
DTSTAMP:20240817T155854Z
ORGANIZER;CN=Portal de Eventos - Centro Universitário Fibra:MAILTO:eventos
 @fibrapara.edu.br
GEO:-1.455183;-48.482397
X-APPLE-STRUCTURED-LOCATION;VALUE=URI;X-ADDRESS=Av. Gentil Bittencourt\, 11
 44.;X-APPLE-RADIUS=72;X-TITLE=Centro Universitário Fibra:-1.455183;-48.48
 2397
END:VEVENT
END:VCALENDAR