BEGIN:VCALENDAR
VERSION:2.0
PRODID:Events Booking
BEGIN:VEVENT
UID:69e9eb42c8233
SUMMARY:PSICOLOGIA E LUTA ANTIMANICOMIAL
DESCRIPTION:PSICOLOGIA E LUTA ANTIMANICOMIAL
 Experiências psi em Centros
  de Atenção Psicossocial da RAPS Belém
LOCATION:Av. Gentil Bittencourt\, 1144.
DTSTART:20240529T110000Z
DTEND:20240530T000000Z
DTSTAMP:20240523T220303Z
ORGANIZER;CN=Portal de Eventos - Centro Universitário Fibra:MAILTO:eventos
 @fibrapara.edu.br
GEO:-1.455183;-48.482397
X-APPLE-STRUCTURED-LOCATION;VALUE=URI;X-ADDRESS=Av. Gentil Bittencourt\, 11
 44.;X-APPLE-RADIUS=72;X-TITLE=Centro Universitário Fibra:-1.455183;-48.48
 2397
END:VEVENT
END:VCALENDAR