BEGIN:VCALENDAR
VERSION:2.0
PRODID:Events Booking
BEGIN:VEVENT
UID:69e91a6a76398
SUMMARY:Pesquisa Bibliográfica e Elaboração do Projeto de Pesquisa
DESCRIPTION:Os alunos participantes do curso serão capazes de: Compreender
  todas &nbsp\;as etapas da produção do Projeto de Pesquisa\; Conhecer to
 dos os elementos integrantes do Projeto de Pesquisa\; Discutir sobre poss
 íveis temas a serem pesquisados\; Entender a importância da pesquisa par
 a a produção acadêmica e Apreender técnicas de produção de textos ac
 adêmicos autorais.
 &nbsp\;O curso somente será ofertado se for alcanç
 ado o preenchimento mínimo de 10 inscrições.
 Evento aberto ao públic
 o externo.
LOCATION:Av. Gentil Bittencourt\, 1144.
DTSTART:20230527T120000Z
DTEND:20230527T150000Z
DTSTAMP:20230324T025748Z
ORGANIZER;CN=Portal de Eventos - Centro Universitário Fibra:MAILTO:eventos
 @fibrapara.edu.br
GEO:-1.455183;-48.482397
X-APPLE-STRUCTURED-LOCATION;VALUE=URI;X-ADDRESS=Av. Gentil Bittencourt\, 11
 44.;X-APPLE-RADIUS=72;X-TITLE=Centro Universitário Fibra:-1.455183;-48.48
 2397
END:VEVENT
END:VCALENDAR