BEGIN:VCALENDAR
VERSION:2.0
PRODID:Events Booking
BEGIN:VEVENT
UID:69e9e5de1197d
SUMMARY:As prerrogativas profissionais e o exercício da Advocacia Criminal
DESCRIPTION:Palestra com o Presidente da OAB - Seção Pará\, Dr. Eduardo 
 Imbiriba\, que abordará as prerrogativas funcionais dos advogados\, além
  de comentar sobre experiência na advocacia criminal.
LOCATION:Av. Gentil Bittencourt\, 1144.
DTSTART:20221121T220000Z
DTEND:20221122T010000Z
DTSTAMP:20221103T205129Z
ORGANIZER;CN=Portal de Eventos - Centro Universitário Fibra:MAILTO:eventos
 @fibrapara.edu.br
GEO:-1.455183;-48.482397
X-APPLE-STRUCTURED-LOCATION;VALUE=URI;X-ADDRESS=Av. Gentil Bittencourt\, 11
 44.;X-APPLE-RADIUS=72;X-TITLE=Centro Universitário Fibra:-1.455183;-48.48
 2397
END:VEVENT
END:VCALENDAR