BEGIN:VCALENDAR
VERSION:2.0
PRODID:Events Booking
BEGIN:VEVENT
UID:69e9fe1134f37
SUMMARY:Curso de Práticas em Metodologias Ativas
DESCRIPTION:O curso é destinado a professores\, monitores\, tutores\, gest
 ores educacionais e a todo profissional que trabalha ou pretende trabalhar
  com educação formal\, não formal\, informal e corporativa\, que esteja
  interessado em analisar\, conhecer e oportunizar melhorias contínuas em 
 seu processo de ensino e aprendizagem\, concebendo como protagonista da a
 ção o aluno\, que assume a função de responsável por trilhar o seu pr
 óprio caminho educacional\, e relacionando a figura do educador como agen
 te que oportuniza esta caminhada pedagógica.
 &nbsp\;
 Oportunidades pa
 ra profissionais interessados em fazer o Curso de Extensão “Práticas e
 m Metodologias Ativas”: Em inscrições de grupos de 3 pessoas\, cada in
 scrição fica no valor de R$ 70\,00\; já para inscrições de grupos de 
 4 ou mais pessoas\, cada inscrição fica no valor de R$ 65\,00.
 &nbsp\;
 
 
LOCATION:Av. Gentil Bittencourt\, 1144.
DTSTART:20240420T170000Z
DTEND:20240427T210000Z
DTSTAMP:20240403T202324Z
ORGANIZER;CN=Portal de Eventos - Centro Universitário Fibra:MAILTO:eventos
 @fibrapara.edu.br
GEO:-1.455183;-48.482397
X-APPLE-STRUCTURED-LOCATION;VALUE=URI;X-ADDRESS=Av. Gentil Bittencourt\, 11
 44.;X-APPLE-RADIUS=72;X-TITLE=Centro Universitário Fibra:-1.455183;-48.48
 2397
END:VEVENT
END:VCALENDAR