BEGIN:VCALENDAR
VERSION:2.0
PRODID:Events Booking
BEGIN:VEVENT
UID:69e9fd8f6b679
SUMMARY:Curso Práticas de Conversação em Libras
DESCRIPTION:O Curso de Extensão “Práticas de Conversação em Libras”
  visa proporcionar um espaço para que ouvintes e surdos possam praticar a
  Língua Brasileira de Sinais (Libras). Durante o curso\, os participantes
  terão a oportunidade de aprimorar suas habilidades de conversação em L
 ibras\, enriquecer seu vocabulário e compreender os princípios organizat
 órios da interação nessa língua. Além disso\, o curso abordará aspec
 tos fonéticos\, fonológicos e morfológicos da Libras\, promovendo uma c
 ompreensão mais profunda dessa língua e sua aplicação em contextos int
 erculturais entre surdos e ouvintes.
 Para receber o certificado\, ao fin
 al do curso\, o aluno precisará ter feito sua inscrição em todos os mó
 dulos e ter frequência mínima de 75%.
 O curso só será realizado apó
 s&nbsp\;a inscrição de\, no mínimo\, 20 alunos.
 Data: Início no dia 
 10/08/24 (as aulas acontecerão aos sábados\, das 8h30 às 10h)
 Investi
 mento: Mensalidades de R$ 140\,00
 Taxa única de material: R$ 100\,00 (a
  ser paga no primeiro dia de aula)
 
LOCATION:Av. Gentil Bittencourt\, 1144.
DTSTART:20240810T113000Z
DTEND:20240817T130000Z
DTSTAMP:20240730T173048Z
ORGANIZER;CN=Portal de Eventos - Centro Universitário Fibra:MAILTO:eventos
 @fibrapara.edu.br
GEO:-1.455183;-48.482397
X-APPLE-STRUCTURED-LOCATION;VALUE=URI;X-ADDRESS=Av. Gentil Bittencourt\, 11
 44.;X-APPLE-RADIUS=72;X-TITLE=Centro Universitário Fibra:-1.455183;-48.48
 2397
END:VEVENT
END:VCALENDAR