BEGIN:VCALENDAR
VERSION:2.0
PRODID:Events Booking
BEGIN:VEVENT
UID:69e9fa41f0a68
SUMMARY:Potencializando o seu sucesso jurídico: estratégias para o destaq
 ue profissional no mercado de trabalho
DESCRIPTION:Venha conhecer as estratégias para o destaque profissional no 
 mercado de trabalho da advocacia e empreendedorismo.
LOCATION:Av. Gentil Bittencourt\, 1144.
DTSTART:20240528T213000Z
DTEND:20240528T233000Z
DTSTAMP:20240510T021903Z
ORGANIZER;CN=Portal de Eventos - Centro Universitário Fibra:MAILTO:eventos
 @fibrapara.edu.br
GEO:-1.455183;-48.482397
X-APPLE-STRUCTURED-LOCATION;VALUE=URI;X-ADDRESS=Av. Gentil Bittencourt\, 11
 44.;X-APPLE-RADIUS=72;X-TITLE=Centro Universitário Fibra:-1.455183;-48.48
 2397
END:VEVENT
END:VCALENDAR