BEGIN:VCALENDAR
VERSION:2.0
PRODID:Events Booking
BEGIN:VEVENT
UID:69e9e83c0a49d
SUMMARY:Aulão da Pós-graduação de Serviço Social: O Saber e o Fazer Pr
 ofissional
DESCRIPTION:Sejam bem-vindos (as)! ao Aulão do curso de Pós-graduação d
 e Serviço Social!Estamos bastante animados com este momento educativo de 
 pertencimento e de interação social pelos conhecimentos e saberes!Espero
  que possamos compartilhar muitas experiências\, construir um aprendizado
  colaborativo e enriquecedor para nossas profissões.Assim\, fico grata pe
 la oportunidade de dialogarmos sobre Práticas de Segurança Pública enqu
 anto bem-estar qualidade de vida e cidadania.É uma honra participar deste
  encontro!
 
 &nbsp\;
 &nbsp\;
LOCATION:Av. Gentil Bittencourt\, 1144.
DTSTART:20240824T120000Z
DTEND:20240824T150000Z
DTSTAMP:20240809T154627Z
ORGANIZER;CN=Portal de Eventos - Centro Universitário Fibra:MAILTO:eventos
 @fibrapara.edu.br
GEO:-1.455183;-48.482397
X-APPLE-STRUCTURED-LOCATION;VALUE=URI;X-ADDRESS=Av. Gentil Bittencourt\, 11
 44.;X-APPLE-RADIUS=72;X-TITLE=Centro Universitário Fibra:-1.455183;-48.48
 2397
END:VEVENT
END:VCALENDAR