BEGIN:VCALENDAR
VERSION:2.0
PRODID:Events Booking
BEGIN:VEVENT
UID:69e9ebb1efc97
SUMMARY:Plantão psicológico a partir de múltiplos olhares
DESCRIPTION:O plantão psicológico se configura como uma modalidade de ate
 ndimento\, diferente de outras formas existentes na psicologia como aconse
 lhamento e psicoterapia convencional. Esse tipo de atendimento se constitu
 i em um espaço primordial de escuta e acolhimento emergenciais do sujeito
  que procura o serviço
 Assim\, conhecer as características e as bases 
 teóricas científicas desse tipo de serviço é fundamental na formação
  do Psicólogo
 
LOCATION:Av. Gentil Bittencourt\, 1144.
DTSTART:20241004T120000Z
DTEND:20241004T160000Z
DTSTAMP:20241002T213937Z
ORGANIZER;CN=Portal de Eventos - Centro Universitário Fibra:MAILTO:eventos
 @fibrapara.edu.br
GEO:-1.455183;-48.482397
X-APPLE-STRUCTURED-LOCATION;VALUE=URI;X-ADDRESS=Av. Gentil Bittencourt\, 11
 44.;X-APPLE-RADIUS=72;X-TITLE=Centro Universitário Fibra:-1.455183;-48.48
 2397
END:VEVENT
END:VCALENDAR