BEGIN:VCALENDAR
VERSION:2.0
PRODID:Events Booking
BEGIN:VEVENT
UID:69e9e985efcdf
SUMMARY:Parasitão 2026 – Uma imersão na floresta
DESCRIPTION:Prepare-se para viver uma experiência única no coração da A
 mazônia.No dia 13 de junho (Dia de Santo Antônio)\, a Ilha do Combu ser
 á palco de um evento imperdível para quem quer mergulhar de verdade no u
 niverso da parasitologia.Serão 4 horas intensas de aulas e vivências\, r
 eunindo especialistas com ampla experiência nos temas mais relevantes da 
 área:
 
 Doença de Chagas
 Esquistossomose
 Leishmaniose
 Parasitos
 es intestinais
 Parasitoses de cães e gatos
 Parasitoses Exóticas da A
 mazônia
 Diagnóstico das parasitoses: do microscópio a biologia molecu
 lar
 Parasitoses humanas: Medicina de Precisão e Inteligência Artificia
 l e muito mais.
 
 Tudo isso em um cenário simplesmente incrível: uma 
 imersão dentro da floresta amazônica no Porto Combu.E o melhor: sua insc
 rição já inclui transporte de barco até a ilha e um coffee break espec
 ial assinado pelo famoso chef Arturo.E claro\, não poderia faltar o clima
  junino.Teremos o tradicional mingau de milho\, com direito ao nosso espec
 ial “Mingau com o Especialista”.Um evento exclusivo\, diferente de tud
 o que você já viu.Garanta sua vaga e venha passar 4 horas parasitando co
 m a gente na Ilha do Combu.
 Será a II Revolução na Floresta.
 Na ins
 crição já está incluída a passagem de ida e volta e o coffe break by 
 chefe Arturo
 
LOCATION:Ilha do Combu
DTSTART:20260613T120000Z
DTEND:20260613T160000Z
DTSTAMP:20260408T163014Z
ORGANIZER;CN=Portal de Eventos - Centro Universitário Fibra:MAILTO:eventos
 @fibrapara.edu.br
GEO:-1.490502;-48.446693
X-APPLE-STRUCTURED-LOCATION;VALUE=URI;X-ADDRESS=Ilha do Combu;X-APPLE-RADIU
 S=72;X-TITLE=Restaurante Porto Combu:-1.490502;-48.446693
END:VEVENT
END:VCALENDAR