BEGIN:VCALENDAR
VERSION:2.0
PRODID:Events Booking
BEGIN:VEVENT
UID:69e9fe368c8f1
SUMMARY:Palestra Nacional do Feirão do Emprego
DESCRIPTION:Você quer se destacar no mercado e construir uma carreira com 
 propósito? Então anota aí: no dia 29 de maio\, o Feirão do Emprego do 
 Emprega Pará\, promovido pela ABRH-PA\, recebe um dos maiores especialist
 as do Brasil em carreira e mercado de trabalho: Rodrigo Dib!
 ? Rodrigo 
 é superintendente do CIEE\, cofundador da Galena Edupass\, foi CEO do Ins
 tituto PROA\, atuou por 14 anos no Instituto Ayrton Senna e ganhou projeç
 ão nacional como especialista do quadro “Trampo” da TV Globo. Em 2024
 \, foi reconhecido pelo LinkedIn como uma das vozes mais influentes em car
 reira no país. ÉÉ autor do livro “ O mundo é seu\, mas calma lá! 
 ” \, publicado pela Editora Senac e com prefáácio de Luiza Helena Traj
 ano.
 Além de autor e mentor de carreira\, Rodrigo traz uma visão atual
 \, prática e inspiradora sobre empregabilidade\, futuro do trabalho e edu
 cação profissional.
 &nbsp\;
 Palestra Principal:Rodrigo Dib (Superint
 endente Institucional e de Inovação do CIEE)Tema: O Futuro do Trabalho: 
 Como se Preparar para as Profissões do Amanhã
 Roda de Conversa: Empreg
 abilidade e Carreira com grandes nomes do mercado:Graciete Correa – Gere
 nte de Gente e Gestão do Porto DiasVanessa Mendes – Head de RH da Vale 
 (Arco Norte)Maurício Chamma – Head de GBS RH na Norsk Hydro
 Por que p
 articipar?✅ Networking com líderes de grandes empresas✅ Dicas prátic
 as para alavancar sua carreira✅ Visão de futuro para quem quer se desta
 car✅ Evento gratuito e com certificado
 &nbsp\;
 
LOCATION:Av. Gentil Bittencourt\, 1144.
DTSTART:20250529T220000Z
DTEND:20250530T010000Z
DTSTAMP:20250523T004323Z
ORGANIZER;CN=Portal de Eventos - Centro Universitário Fibra:MAILTO:eventos
 @fibrapara.edu.br
GEO:-1.455183;-48.482397
X-APPLE-STRUCTURED-LOCATION;VALUE=URI;X-ADDRESS=Av. Gentil Bittencourt\, 11
 44.;X-APPLE-RADIUS=72;X-TITLE=Centro Universitário Fibra:-1.455183;-48.48
 2397
END:VEVENT
END:VCALENDAR