BEGIN:VCALENDAR
VERSION:2.0
PRODID:Events Booking
BEGIN:VEVENT
UID:69e90312536c6
SUMMARY:Outubro Rosa e Novembro Azul Pet
DESCRIPTION:Outubro Rosa é internacionalmente conhecido como o mês de con
 scientização para a detecção precoce do câncer de mama em mulheres\, 
 e devido a importância dessa doença na Medicina Veterinária\, esse movi
 mento se estendeu para a espécie canina e felina. Novembro Azul é um mov
 imento mundial que acontece durante o mês de novembro para reforçar a im
 portância do diagnóstico precoce do câncer de próstata. A doença é o
  segundo tipo de câncer mais comum entre os homens\, atrás apenas do câ
 ncer de pele. Apesar da incidência ser baixa em pets\, as neoplasias pros
 táticas (câncer de próstata) podem ser agressivas e evoluir rapidamente
  para metástases.Este evento tem o objetivo de compartilhar informações
  e promover a conscientização sobre as patologias\; proporcionar maior a
 cesso aos serviços de diagnóstico e de tratamento e contribuir para a re
 dução da mortalidade.
LOCATION:Av. Gentil Bittencourt\, 1144.
DTSTART:20241030T170000Z
DTEND:20241030T210000Z
DTSTAMP:20241021T183230Z
ORGANIZER;CN=Portal de Eventos - Centro Universitário Fibra:MAILTO:eventos
 @fibrapara.edu.br
GEO:-1.455183;-48.482397
X-APPLE-STRUCTURED-LOCATION;VALUE=URI;X-ADDRESS=Av. Gentil Bittencourt\, 11
 44.;X-APPLE-RADIUS=72;X-TITLE=Centro Universitário Fibra:-1.455183;-48.48
 2397
END:VEVENT
END:VCALENDAR