BEGIN:VCALENDAR
VERSION:2.0
PRODID:Events Booking
BEGIN:VEVENT
UID:69e9fe8a1c210
SUMMARY:Desafios e Oportunidades: Como o Marketing Pode proporcionar a Ado
 ção de Políticas Ambientais na COP30
DESCRIPTION:O Prof. Guarany Júnior discute como o Marketing pode proporcio
 nar a adoção de Políticas Ambientais&nbsp\;na&nbsp\;COP30.
 
LOCATION:Av. Gentil Bittencourt\, 1144.
DTSTART:20240429T223000Z
DTEND:20240430T003000Z
DTSTAMP:20240418T154207Z
ORGANIZER;CN=Portal de Eventos - Centro Universitário Fibra:MAILTO:eventos
 @fibrapara.edu.br
GEO:-1.455183;-48.482397
X-APPLE-STRUCTURED-LOCATION;VALUE=URI;X-ADDRESS=Av. Gentil Bittencourt\, 11
 44.;X-APPLE-RADIUS=72;X-TITLE=Centro Universitário Fibra:-1.455183;-48.48
 2397
END:VEVENT
END:VCALENDAR