BEGIN:VCALENDAR
VERSION:2.0
PRODID:Events Booking
BEGIN:VEVENT
UID:69e9fe1cbdd27
SUMMARY:Oficina de Reanimação Cardiopulmonar (RCP) para Enfermagem
DESCRIPTION:Você está pronto para aprender uma habilidade que salva vidas
 ?
 Participe da&nbsp\;Oficina de Reanimação Cardiopulmonar (RCP)&nbsp\;
 para Enfermagem&nbsp\;e capacite-se para agir em situações de emergênci
 a!
 
LOCATION:Av. Gentil Bittencourt\, 1144.
DTSTART:20251103T210000Z
DTEND:20251103T230000Z
DTSTAMP:20251029T143841Z
ORGANIZER;CN=Portal de Eventos - Centro Universitário Fibra:MAILTO:eventos
 @fibrapara.edu.br
GEO:-1.455183;-48.482397
X-APPLE-STRUCTURED-LOCATION;VALUE=URI;X-ADDRESS=Av. Gentil Bittencourt\, 11
 44.;X-APPLE-RADIUS=72;X-TITLE=Centro Universitário Fibra:-1.455183;-48.48
 2397
END:VEVENT
END:VCALENDAR