BEGIN:VCALENDAR
VERSION:2.0
PRODID:Events Booking
BEGIN:VEVENT
UID:69e97582ce5e3
SUMMARY:Oficina Instruções éticas e textuais: o uso de prompts em trabal
 hos acadêmicos
DESCRIPTION:Participe da Oficina “Instruções éticas e textuais: o uso 
 de prompts em trabalhos acadêmicos” e descubra como utilizar ferramenta
 s de inteligência artificial de forma crítica\, responsável e criativa 
 na produção científica. Nesta atividade prática\, vamos explorar o pap
 el dos prompts na construção de textos\, refletindo sobre limites ético
 s\, autoria e originalidade\, além de aprender estratégias para potencia
 lizar a escrita acadêmica sem abrir mão do rigor científico. Um espaço
  de aprendizado dinâmico e colaborativo\, pensado para engajar você no f
 uturo da pesquisa acadêmica.
 
LOCATION:Av. Gentil Bittencourt\, 1144.
DTSTART:20250904T220000Z
DTEND:20250905T000000Z
DTSTAMP:20250902T183611Z
ORGANIZER;CN=Portal de Eventos - Centro Universitário Fibra:MAILTO:eventos
 @fibrapara.edu.br
GEO:-1.455183;-48.482397
X-APPLE-STRUCTURED-LOCATION;VALUE=URI;X-ADDRESS=Av. Gentil Bittencourt\, 11
 44.;X-APPLE-RADIUS=72;X-TITLE=Centro Universitário Fibra:-1.455183;-48.48
 2397
END:VEVENT
END:VCALENDAR