BEGIN:VCALENDAR
VERSION:2.0
PRODID:Events Booking
BEGIN:VEVENT
UID:69e9eabccd2f6
SUMMARY:Oficina de formatação de artigos científicos
DESCRIPTION:Considerando a necessidade de os Trabalhos de Conclusão de Cur
 so obedecerem a padronização da documentação estabelecida no Brasil\, 
 afim de manterem o padrão de qualidade esperado\, esta Oficina se faz de 
 suma importância no auxílio dos alunos do Centro Universitário Fibra e 
 da comunidade externa para atingir tal objetivo.Ademais\, além da adequa
 ção da forma\, a Oficina propõe-se a indicar a estrutura e os elementos
  metodológicos de um artigo científico para esclarecer o público alvo o
  conteúdo de um artigo científico.
 Oficina aberta ao público externo.
LOCATION:Av. Gentil Bittencourt\, 1144.
DTSTART:20221105T113000Z
DTEND:20221105T163000Z
DTSTAMP:20221015T231546Z
ORGANIZER;CN=Portal de Eventos - Centro Universitário Fibra:MAILTO:eventos
 @fibrapara.edu.br
GEO:-1.455183;-48.482397
X-APPLE-STRUCTURED-LOCATION;VALUE=URI;X-ADDRESS=Av. Gentil Bittencourt\, 11
 44.;X-APPLE-RADIUS=72;X-TITLE=Centro Universitário Fibra:-1.455183;-48.48
 2397
END:VEVENT
END:VCALENDAR