BEGIN:VCALENDAR
VERSION:2.0
PRODID:Events Booking
BEGIN:VEVENT
UID:69e9fddd9c30f
SUMMARY:Oficina de Formatação de Artigos Científicos
DESCRIPTION:Aprenda\, de forma prática\, a formatar seu artigo científico
 ! A oficina será realizada com um aluno por computador. Durante a oficina
 \, será ensinado o passo-a-passo de como utilizar o software Microsoft Wo
 rd para formatar um artigo científico conforme as últimas atualizações
  da ABNT.
 Público: Alunos de todos os cursos do Centro Universitário F
 ibra e público externo interessado
 
LOCATION:Av. Gentil Bittencourt\, 1144.
DTSTART:20251004T113000Z
DTEND:20251004T153000Z
DTSTAMP:20250917T170902Z
ORGANIZER;CN=Portal de Eventos - Centro Universitário Fibra:MAILTO:eventos
 @fibrapara.edu.br
GEO:-1.455183;-48.482397
X-APPLE-STRUCTURED-LOCATION;VALUE=URI;X-ADDRESS=Av. Gentil Bittencourt\, 11
 44.;X-APPLE-RADIUS=72;X-TITLE=Centro Universitário Fibra:-1.455183;-48.48
 2397
END:VEVENT
END:VCALENDAR