BEGIN:VCALENDAR
VERSION:2.0
PRODID:Events Booking
BEGIN:VEVENT
UID:69e9fdb88a4e5
SUMMARY:Oficina de Formatação de Artigos Científicos - Turma 2
DESCRIPTION:A oficina será realizada no laboratório de informática\, com
  um aluno por computador. Durante a oficina\, será ensinado o passo-a-pas
 so de como utilizar o software Microsoft Word para formatar um artigo cien
 tífico conforme a última atualização da ABNT\, ocorrida em julho de 20
 23.
 
LOCATION:Av. Gentil Bittencourt\, 1144.
DTSTART:20231104T113000Z
DTEND:20231104T153000Z
DTSTAMP:20231005T144513Z
ORGANIZER;CN=Portal de Eventos - Centro Universitário Fibra:MAILTO:eventos
 @fibrapara.edu.br
GEO:-1.455183;-48.482397
X-APPLE-STRUCTURED-LOCATION;VALUE=URI;X-ADDRESS=Av. Gentil Bittencourt\, 11
 44.;X-APPLE-RADIUS=72;X-TITLE=Centro Universitário Fibra:-1.455183;-48.48
 2397
END:VEVENT
END:VCALENDAR