BEGIN:VCALENDAR
VERSION:2.0
PRODID:Events Booking
BEGIN:VEVENT
UID:69ea0f93e4dfe
SUMMARY:OFICINA - Treinando o Direito Tributário para 1ª e 2ª fases no E
 xame de Ordem
DESCRIPTION:Síntese das provas de Direito Tributário dos últimos 15 Exam
 es\, 1ª e 2ª fases. Técnicas de resolução de questões. Identificaç
 ão de peças. Resolução de questões discursivas originais\, adaptadas 
 e inéditas.
LOCATION:Av. Gentil Bittencourt\, 1144.
DTSTART:20231025T180000Z
DTEND:20231025T210000Z
DTSTAMP:20230821T061430Z
ORGANIZER;CN=Portal de Eventos - Centro Universitário Fibra:MAILTO:eventos
 @fibrapara.edu.br
GEO:-1.455183;-48.482397
X-APPLE-STRUCTURED-LOCATION;VALUE=URI;X-ADDRESS=Av. Gentil Bittencourt\, 11
 44.;X-APPLE-RADIUS=72;X-TITLE=Centro Universitário Fibra:-1.455183;-48.48
 2397
END:VEVENT
END:VCALENDAR