BEGIN:VCALENDAR
VERSION:2.0
PRODID:Events Booking
BEGIN:VEVENT
UID:69ea0f93e6f00
SUMMARY:OFICINA - Aplicação do método da mediação pré processual e pr
 ocessual
DESCRIPTION:Um olhar restaurativo para a construção da cultura de paz: a 
 importância dos métodos consensuais para os advogados na resolução de 
 conflitos pré e processual\"
 Ementa: conceito de justiça punitiva e re
 staurativa. Identificação dos métodos resolução de conflitos. Técnic
 a de aplicação da mediação pré processual e processual.
LOCATION:Av. Gentil Bittencourt\, 1144.
DTSTART:20231025T180000Z
DTEND:20231025T210000Z
DTSTAMP:20230821T061430Z
ORGANIZER;CN=Portal de Eventos - Centro Universitário Fibra:MAILTO:eventos
 @fibrapara.edu.br
GEO:-1.455183;-48.482397
X-APPLE-STRUCTURED-LOCATION;VALUE=URI;X-ADDRESS=Av. Gentil Bittencourt\, 11
 44.;X-APPLE-RADIUS=72;X-TITLE=Centro Universitário Fibra:-1.455183;-48.48
 2397
END:VEVENT
END:VCALENDAR