BEGIN:VCALENDAR
VERSION:2.0
PRODID:Events Booking
BEGIN:VEVENT
UID:69ea0fe16725b
SUMMARY:OFICINA - A interlocução entre Psicologia e Direito no enfrentame
 nto a violência contra as mulheres: caminhos possíveis
DESCRIPTION:De acordo com o Fórum Brasileiro de Segurança Pública\, houv
 e um aumento em 2022 de casos de violência contra as mulheres\, nas mais 
 diversas formas: violência física\, violência patrimonial\, sexual\, pa
 ssando pelos xingamentos e ameaças até os feminicídios. Quando trabalha
 mos como o marcador raça\, essa problemática exige muita atenção. A pr
 esente oficina se propõe a apresentar as atuais ferramentas e medidas de 
 combate à violência contra as mulheres\, assim como a produção teóric
 a e jurídica\, desde a concepção do que seja violência\, até o fluxo 
 de atendimento às mulheres vítimas e seus familiares.
LOCATION:Av. Gentil Bittencourt\, 1144.
DTSTART:20231025T120000Z
DTEND:20231025T150000Z
DTSTAMP:20230821T061430Z
ORGANIZER;CN=Portal de Eventos - Centro Universitário Fibra:MAILTO:eventos
 @fibrapara.edu.br
GEO:-1.455183;-48.482397
X-APPLE-STRUCTURED-LOCATION;VALUE=URI;X-ADDRESS=Av. Gentil Bittencourt\, 11
 44.;X-APPLE-RADIUS=72;X-TITLE=Centro Universitário Fibra:-1.455183;-48.48
 2397
END:VEVENT
END:VCALENDAR