BEGIN:VCALENDAR
VERSION:2.0
PRODID:Events Booking
BEGIN:VEVENT
UID:69ea106c40c57
SUMMARY:OFICINA - Pesquisa e leitura de precedentes do Supremo Tribunal Fed
 eral e do Superior Tribunal de Justiça.
DESCRIPTION:Mecanismos de pesquisa de precedentes nos repositórios on-line
  de jurisprudência do Supremo Tribunal Federal e do Superior Tribunal de 
 Justiça. Análise de precedentes e aplicação para solução de casos.
LOCATION:Av. Gentil Bittencourt\, 1144.
DTSTART:20231025T120000Z
DTEND:20231025T150000Z
DTSTAMP:20230821T061430Z
ORGANIZER;CN=Portal de Eventos - Centro Universitário Fibra:MAILTO:eventos
 @fibrapara.edu.br
GEO:-1.455183;-48.482397
X-APPLE-STRUCTURED-LOCATION;VALUE=URI;X-ADDRESS=Av. Gentil Bittencourt\, 11
 44.;X-APPLE-RADIUS=72;X-TITLE=Centro Universitário Fibra:-1.455183;-48.48
 2397
END:VEVENT
END:VCALENDAR