BEGIN:VCALENDAR
VERSION:2.0
PRODID:Events Booking
BEGIN:VEVENT
UID:69ea0fc8541b0
SUMMARY:OFICINA - Falência do empresário e da sociedade empresária
DESCRIPTION:Debate acerca dos principais pontos da lei n. 11.101/2005 sobre
  o procedimento de falência e elaboração de peça processual acerca de 
 pedido de falência.
LOCATION:Av. Gentil Bittencourt\, 1144.
DTSTART:20231025T120000Z
DTEND:20231025T150000Z
DTSTAMP:20230821T061430Z
ORGANIZER;CN=Portal de Eventos - Centro Universitário Fibra:MAILTO:eventos
 @fibrapara.edu.br
GEO:-1.455183;-48.482397
X-APPLE-STRUCTURED-LOCATION;VALUE=URI;X-ADDRESS=Av. Gentil Bittencourt\, 11
 44.;X-APPLE-RADIUS=72;X-TITLE=Centro Universitário Fibra:-1.455183;-48.48
 2397
END:VEVENT
END:VCALENDAR