BEGIN:VCALENDAR
VERSION:2.0
PRODID:Events Booking
BEGIN:VEVENT
UID:69ea0f6434da6
SUMMARY:OFICINA - DESCONSTRUINDO AS PRÓPRIAS VERDADES: sobre o distanciame
 nto e o rigor científicos\, na construção de problemas de pesquisa
DESCRIPTION:Problematizar um objeto de pesquisa exige encontrar a “pergun
 ta certa”\, adequada a artigos\, trabalhos de conclusão de cursos\, mon
 ografias\, dissertações e teses. Nessa linha\, construir uma problemáti
 ca científica de boa qualidade importa em aprender primeiro a “desconst
 ruir” o seu objeto de pesquisa. A presente oficina pretende facilitar a 
 aproximação da objetividade ideal do aluno-pesquisador com seu objeto de
  pesquisa\, a partir da “desconstrução” de verdades iniciais\, além
  de exercitar e experimentar o rigor do raciocínio científico.
LOCATION:Av. Gentil Bittencourt\, 1144.
DTSTART:20231024T220000Z
DTEND:20231025T010000Z
DTSTAMP:20230821T061430Z
ORGANIZER;CN=Portal de Eventos - Centro Universitário Fibra:MAILTO:eventos
 @fibrapara.edu.br
GEO:-1.455183;-48.482397
X-APPLE-STRUCTURED-LOCATION;VALUE=URI;X-ADDRESS=Av. Gentil Bittencourt\, 11
 44.;X-APPLE-RADIUS=72;X-TITLE=Centro Universitário Fibra:-1.455183;-48.48
 2397
END:VEVENT
END:VCALENDAR