BEGIN:VCALENDAR
VERSION:2.0
PRODID:Events Booking
BEGIN:VEVENT
UID:69e8d765d4984
SUMMARY:Curso de Extensão Teórico-Prático em Terapia Nutricional Enteral
DESCRIPTION:O curso tem como objetivo analisar como e quando prescrever a t
 erapia nutricional enteral\, bem como suas possíveis complicações e seu
  manejo\; demonstrar a aplicação da terapia nutricional enteral\, aprese
 ntar as complicações do método e o benefício da nutrição enteral pre
 coce\; escolher a terapia nutricional nas diversas situações clínicas\;
  e enumerar os prós e contras da utilização de dietas industrializadas 
 e artesanais.
 Curso aberto ao público externo.
LOCATION:Av. Gentil Bittencourt\, 1144.
DTSTART:20230415T110000Z
DTEND:20230415T210000Z
DTSTAMP:20230215T172137Z
ORGANIZER;CN=Portal de Eventos - Centro Universitário Fibra:MAILTO:eventos
 @fibrapara.edu.br
GEO:-1.455183;-48.482397
X-APPLE-STRUCTURED-LOCATION;VALUE=URI;X-ADDRESS=Av. Gentil Bittencourt\, 11
 44.;X-APPLE-RADIUS=72;X-TITLE=Centro Universitário Fibra:-1.455183;-48.48
 2397
END:VEVENT
END:VCALENDAR