BEGIN:VCALENDAR
VERSION:2.0
PRODID:Events Booking
BEGIN:VEVENT
UID:69e9eae2c681e
SUMMARY:Nurse Talk
DESCRIPTION:O&nbsp\;Nurse&nbsp\;Talk&nbsp\;trás inovação para a enfermag
 em\, conversando com os experts na área onde iremos\, de forma interdisci
 plinar\, debater assuntos relevantes e atuais para fortalecer as práxis d
 a enfermagem.
 Evento exclusivo para calouros e acadêmicos do Curso de E
 nfermagem do Centro Universitário Fibra.
LOCATION:Av. Gentil Bittencourt\, 1144.
DTSTART:20230202T110000Z
DTEND:20230203T150000Z
DTSTAMP:20230120T153929Z
ORGANIZER;CN=Portal de Eventos - Centro Universitário Fibra:MAILTO:eventos
 @fibrapara.edu.br
GEO:-1.455183;-48.482397
X-APPLE-STRUCTURED-LOCATION;VALUE=URI;X-ADDRESS=Av. Gentil Bittencourt\, 11
 44.;X-APPLE-RADIUS=72;X-TITLE=Centro Universitário Fibra:-1.455183;-48.48
 2397
END:VEVENT
END:VCALENDAR