BEGIN:VCALENDAR
VERSION:2.0
PRODID:Events Booking
BEGIN:VEVENT
UID:69e9e987756fc
SUMMARY:Mostra de Extensão 2026
DESCRIPTION:No dia 29 de abril acontecerá a Mostra de Extensão 2026. Dura
 nte o evento serão apresentados os resultados dos Projetos que foram dese
 nvolvidos no Centro Universitário Fibra durante os anos de 2024 e 2025. A
  programação contará com a participação de docentes e discentes\, evi
 denciando as ações extensionistas realizadas nas diversas áreas do conh
 ecimento. A Mostra constitui-se como um espaço de socialização de saber
 es\, troca de experiências e valorização das práticas acadêmicas que 
 articulam ensino\, pesquisa e extensão\, reafirmando o compromisso instit
 ucional com a formação cidadã e com o desenvolvimento social. O evento 
 será aberto a toda a comunidade acadêmica e também à sociedade em gera
 l.
 
LOCATION:Av. Gentil Bittencourt\, 1144.
DTSTART:20260429T120000Z
DTEND:20260429T220000Z
DTSTAMP:20260415T031843Z
ORGANIZER;CN=Portal de Eventos - Centro Universitário Fibra:MAILTO:eventos
 @fibrapara.edu.br
GEO:-1.455183;-48.482397
X-APPLE-STRUCTURED-LOCATION;VALUE=URI;X-ADDRESS=Av. Gentil Bittencourt\, 11
 44.;X-APPLE-RADIUS=72;X-TITLE=Centro Universitário Fibra:-1.455183;-48.48
 2397
END:VEVENT
END:VCALENDAR