BEGIN:VCALENDAR
VERSION:2.0
PRODID:Events Booking
BEGIN:VEVENT
UID:69e797b5b8caa
SUMMARY:Minicurso em alusão ao Dia do Enfermeiro
DESCRIPTION:Segundos que Salvam: Atualizações da AHA sobre Desengasgo
 O
 bjetivo:&nbsp\;Capacitar acadêmicos e profissionais para o reconhecimento
  imediato e a aplicação das manobras de desengasgo atualizadas (Diretriz
 es da American Heart Association)\, minimizando riscos e maximizando as ch
 ances de sobrevivência em situações de emergência.
 Inscrição Solid
 ária:&nbsp\;1 kg de alimento não perecível a ser entregue na entrada do
  evento.
 
 &nbsp\;
LOCATION:Av. Gentil Bittencourt\, 1144.
DTSTART:20260511T140000Z
DTEND:20260511T153000Z
DTSTAMP:20260421T054430Z
ORGANIZER;CN=Portal de Eventos - Centro Universitário Fibra:MAILTO:eventos
 @fibrapara.edu.br
GEO:-1.455183;-48.482397
X-APPLE-STRUCTURED-LOCATION;VALUE=URI;X-ADDRESS=Av. Gentil Bittencourt\, 11
 44.;X-APPLE-RADIUS=72;X-TITLE=Centro Universitário Fibra:-1.455183;-48.48
 2397
END:VEVENT
END:VCALENDAR