BEGIN:VCALENDAR
VERSION:2.0
PRODID:Events Booking
BEGIN:VEVENT
UID:69e9fe3c11e86
SUMMARY:Curso de Extensão “Mercado Cinematográfico: Arte\, Indústria e
  Economia”
DESCRIPTION:O Curso de Extensão \"Mercado Cinematográfico: Arte\, Indúst
 ria e Economia\" abordará os diversos aspectos do mercado cinematográfic
 o\, incluindo custos de produção\, distribuição\, exibição\, conflit
 os entre premissas comerciais e artísticas e as mudanças no mercado de c
 inema ao longo das últimas décadas\, englobando aspectos internacionais\
 , nacionais e regionais.O curso fornecerá informações e interpretaçõe
 s para capacitar os participantes a compreender e enfrentar desafios merca
 dológicos do mercado cinematográfico. Ao final do curso serão exibidos 
 alguns curta-metragens paraenses.
 O curso só iniciará quando a turma a
 tingir o número mínimo de 15 alunos
 
LOCATION:Av. Gentil Bittencourt\, 1144.
DTSTART:20231202T120000Z
DTEND:20231202T210000Z
DTSTAMP:20231114T153818Z
ORGANIZER;CN=Portal de Eventos - Centro Universitário Fibra:MAILTO:eventos
 @fibrapara.edu.br
GEO:-1.455183;-48.482397
X-APPLE-STRUCTURED-LOCATION;VALUE=URI;X-ADDRESS=Av. Gentil Bittencourt\, 11
 44.;X-APPLE-RADIUS=72;X-TITLE=Centro Universitário Fibra:-1.455183;-48.48
 2397
END:VEVENT
END:VCALENDAR