BEGIN:VCALENDAR
VERSION:2.0
PRODID:Events Booking
BEGIN:VEVENT
UID:69e91a10f3229
SUMMARY:Minicurso \"Noções de Mat Pilates e sua aplicabilidade na prátic
 a clínica\"
DESCRIPTION:O minicurso&nbsp\;Noções de Mat Pilates&nbsp\;e sua aplicabil
 idade na prática clínica\, visa lançar mão de técnicas do Mat pilates
  para ser mais uma modalidade no arsenal terapêutico do profissional\, al
 inhando teoria à prática.
 Vestimenta: roupa de atividade física.
 In
 scrição Solidária:&nbsp\;1kg de alimento não perecível.&nbsp\;
 Even
 to aberto ao público externo.
LOCATION:Av. Gentil Bittencourt\, 1144.
DTSTART:20230130T110000Z
DTEND:20230130T150000Z
DTSTAMP:20230110T183718Z
ORGANIZER;CN=Portal de Eventos - Centro Universitário Fibra:MAILTO:eventos
 @fibrapara.edu.br
GEO:-1.455183;-48.482397
X-APPLE-STRUCTURED-LOCATION;VALUE=URI;X-ADDRESS=Av. Gentil Bittencourt\, 11
 44.;X-APPLE-RADIUS=72;X-TITLE=Centro Universitário Fibra:-1.455183;-48.48
 2397
END:VEVENT
END:VCALENDAR