BEGIN:VCALENDAR
VERSION:2.0
PRODID:Events Booking
BEGIN:VEVENT
UID:69e906bd1b12d
SUMMARY:Marketing e Empreendedorismo Aplicados à Linha de Suplementos Nutr
 icionais
DESCRIPTION:O profissional da saúde\, todos os dias\, assume novos desafio
 s para transformar a vida das pessoas e promover o bem-estar. Dentre eles\
 , podemos citar: alcançar o seu público de forma eficiente\, mostrar seu
  trabalho\, captar clientes e vender seus produtos\, atendimento e soluç
 ões para que esteja apto a entregar aos seus pacientes aquilo que desejam
  e precisam para adquirir e manter hábitos saudáveis e sustentáveis.
 
 Atualmente\, alcançar pessoas é o primeiro objetivo para qualquer profis
 sional\, e essa não é uma missão fácil em um mundo extremamenteconecta
 do e competitivo. A internet e as redes sociais são hoje ferramentas de e
 xtrema eficiência para este fim\, permitindo que profissionais da saúde 
 liberais e empreendedores alcancem potenciais clientes\, mostrem seu traba
 lho e construam credibilidade.
 O evento tem como objetivo ofertar o conh
 ecimento básico\, sobre vendas e marketing digital\, aos profissionais da
  saúde em formação\, que é necessário para ingressar no mercado de fo
 rma eficiente\, por meio de técnicas e ferramentas que auxiliam a conhece
 r: técnicas de marketing empresarial\, nutricional\, pessoal e digital\, 
 para promover sua atuação\, construir credibilidade e confiança em &nbs
 p\;seu público e captar possíveis clientes e técnicas básicas de negoc
 iação e vendas\, garantindo remuneração justa.
 &nbsp\;
 Evento aber
 to ao público externo.
LOCATION:Av. Gentil Bittencourt\, 1144.
DTSTART:20230428T110000Z
DTEND:20230428T150000Z
DTSTAMP:20230427T193405Z
ORGANIZER;CN=Portal de Eventos - Centro Universitário Fibra:MAILTO:eventos
 @fibrapara.edu.br
GEO:-1.455183;-48.482397
X-APPLE-STRUCTURED-LOCATION;VALUE=URI;X-ADDRESS=Av. Gentil Bittencourt\, 11
 44.;X-APPLE-RADIUS=72;X-TITLE=Centro Universitário Fibra:-1.455183;-48.48
 2397
END:VEVENT
END:VCALENDAR