BEGIN:VCALENDAR
VERSION:2.0
PRODID:Events Booking
BEGIN:VEVENT
UID:69e9fe1c52812
SUMMARY:Manejo de feridas e curativos
DESCRIPTION:Você\, enfermeiro(a)\, está pronto para dominar as técnicas 
 mais atuais e as evidências científicas no cuidado de feridas? A seguran
 ça do paciente e o sucesso da cicatrização dependem do seu conhecimento
 !
 MÓDULO TEÓRICO
 
 Fisiologia da Cicatrização: O processo do repa
 ro tecidual e seus fatores intervenientes.
 Avaliação Holística: Class
 ificação de feridas (Lesão por Pressão\, Pé do Diabético\, etc.).
 
 Tecnologias Modernas: Conhecimento sobre hidrogéis\, alginatos\, espumas\
 , e outros...
 Aspectos Ético-Legais: A responsabilidade do Enfermeiro n
 o tratamento de feridas.
 
 MÓDULO PRÁTICO (Hands-on)
 
 Técnicas d
 e Limpeza e Preparo: Aplicação de soluções e desbridamento instrumenta
 l simulado.
 Seleção e Aplicação de Coberturas: Treinamento com diver
 sos tipos de curativos.
 Confecção de Curativos Complexos: Prática sup
 ervisionada em modelos
 Simulações de casos clínicos.
 
 
LOCATION:Av. Gentil Bittencourt\, 1144.
DTSTART:20251017T160000Z
DTEND:20251017T200000Z
DTSTAMP:20251008T010453Z
ORGANIZER;CN=Portal de Eventos - Centro Universitário Fibra:MAILTO:eventos
 @fibrapara.edu.br
GEO:-1.455183;-48.482397
X-APPLE-STRUCTURED-LOCATION;VALUE=URI;X-ADDRESS=Av. Gentil Bittencourt\, 11
 44.;X-APPLE-RADIUS=72;X-TITLE=Centro Universitário Fibra:-1.455183;-48.48
 2397
END:VEVENT
END:VCALENDAR