BEGIN:VCALENDAR
VERSION:2.0
PRODID:Events Booking
BEGIN:VEVENT
UID:69e9fe1181315
SUMMARY:Longevidade Humana: Oncogeriatria
DESCRIPTION:A palestra tem como objetivo promover a inserção da compreens
 ão oncogeriátrica junto às condições de degeneração cerebral para c
 ondição de avaliação do estado atual do indivíduo\, no avançar da id
 ade\, identificando a presença de alguma condição oncológica\, para um
 a avaliação ampla\, para melhor tratamento e estímulo ao idoso\, consid
 erando suas competências e habilidades\, desenvolvendo as aptidões\, com
  atendimento diferenciado.
 &nbsp\;
 Público: Alunos e profissionais da
 s seguintes áreas: Terapia Ocupacional\, Fisioterapia\, Enfermagem e Peda
 gogia\; Cuidadores de idosos e demais interessados nos temas a serem trata
 dos
 
LOCATION:Av. Gentil Bittencourt\, 1144.
DTSTART:20250830T120000Z
DTEND:20250830T150000Z
DTSTAMP:20250131T002409Z
ORGANIZER;CN=Portal de Eventos - Centro Universitário Fibra:MAILTO:eventos
 @fibrapara.edu.br
GEO:-1.455183;-48.482397
X-APPLE-STRUCTURED-LOCATION;VALUE=URI;X-ADDRESS=Av. Gentil Bittencourt\, 11
 44.;X-APPLE-RADIUS=72;X-TITLE=Centro Universitário Fibra:-1.455183;-48.48
 2397
END:VEVENT
END:VCALENDAR