BEGIN:VCALENDAR
VERSION:2.0
PRODID:Events Booking
BEGIN:VEVENT
UID:69e9450539e0e
SUMMARY:LITERATURA\, FLORESTA E ENCANTOS
DESCRIPTION:VII ENCONTRO INTERNACIONAL DE LITERATURA ANGLÓFONA E XI ENCONT
 RO DE LITERATURA AMAZÔNICA
 PROGRAMAÇÃO:
 18h&nbsp\;- Hall de entrada
 : Apresentação Cultural com o discente Percyus (LL06NA) e Circuito Inter
 ativo “Trilha Literária”
 19h&nbsp\;- Chamada ao auditório. Leitura
  das mensagens do Painel Interativo.&nbsp\;
 19h10&nbsp\;- Abertura do ev
 ento com os professores Jorge Resque\, Marcos Valério e Gabriel Lage
 19
 h20/30&nbsp\;- Palestra/Bate-papo com o escritor Daniel da Rocha Leite. Me
 diação: Prof. Dr. Marcos Valério Reis.&nbsp\;
 20h20&nbsp\;- Apresenta
 ção Cultural (Rodrigo - LL06NA)
 20h30&nbsp\;- Comunicação: “The Wo
 rd for World is Forest”\, de Ursula K. Le Guin - Discentes: Júlio Césa
 r e Tânia de Miranda (LL06NA)&nbsp\;
 20h45&nbsp\;- Comunicação: “Ps
 sica”\, de Edyr Augusto - Discente: Augusto Simi (LL08NA)
 21h&nbsp\;- 
 Entrevista internacional com a artista-educadora Angelica Monteiro - Media
 ção: Jonas Anderson (LL06NA)
 21h30&nbsp\;- Encerramento e Agradeciment
 os. Sorteio de livro ou Palavra premiada (Painel Interativo)
 
 &nbsp\;
LOCATION:Av. Gentil Bittencourt\, 1144.
DTSTART:20251104T210000Z
DTEND:20251105T010000Z
DTSTAMP:20251030T174745Z
ORGANIZER;CN=Portal de Eventos - Centro Universitário Fibra:MAILTO:eventos
 @fibrapara.edu.br
GEO:-1.455183;-48.482397
X-APPLE-STRUCTURED-LOCATION;VALUE=URI;X-ADDRESS=Av. Gentil Bittencourt\, 11
 44.;X-APPLE-RADIUS=72;X-TITLE=Centro Universitário Fibra:-1.455183;-48.48
 2397
END:VEVENT
END:VCALENDAR