BEGIN:VCALENDAR
VERSION:2.0
PRODID:Events Booking
BEGIN:VEVENT
UID:69e94b632efaa
SUMMARY:Liga Acadêmica de Relação Humano-Animal e Bem-estar Único (UFRA
 -Fibra)
DESCRIPTION:
 Em comemoração aos 20 anos do Centro Universitário Fibra\
 , surge o I Congresso Amazônico de Medicina e Inovação em Saúde\, que 
 será realizado em um esforço conjunto entre a Instituição e entidades 
 representativas da área\, e terá como público participante tanto estuda
 ntes quanto profissionais da saúde e áreas afins.
 O Centro Universitá
 rio Fibra já é referência em saúde na Região\, e\, para contemplar a 
 diversidade dos cursos ofertados pela IES\, foi idealizado um evento de na
 tureza multidisciplinar\, que possa dar visibilidade às diversas pesquisa
 s na área de saúde na atualidade.
 Um dos objetivos do evento é estimu
 lar os diálogos acadêmicos entre diferentes Instituições de saúde\, s
 endo a participação aberta à comunidade de forma ampla\, com o intuito 
 de promover a divulgação de estudos recentes em saúde\, que possam cola
 borar na formação dos futuros profissionais\, e também na daqueles que 
 já estão atuando\, além de abrir possibilidades de intercâmbios e parc
 erias entre as diversas entidades participantes.
 As mudanças promovidas
  a partir da revolução digital\, ainda em curso em nossa sociedade\, e q
 ue foram impulsionadas pelos desafios da crise mundial\, a partir da pande
 mia da Covid-19\, têm acentuado os debates acerca das novas tecnologias e
  inovações na área da saúde\, além de apontar uma disparidade em rela
 ção ao seu acesso e às diversas realidades encontradas em nosso País\,
  referentes ao diagnóstico\, à prevenção e ao tratamento de doenças.
 
 Neste contexto\, foi consenso que a realização de um grande palco de d
 iscussões científicas seria a melhor maneira de se comemorar a formaçã
 o sempre crescente e de qualidade da educação profissional que a Fibra r
 ealiza há 20 anos\, seguindo o ensino pautado no desenvolvimento tecnoló
 gico e na inovação\, dando oportunidade à formação e à capacitação
  humana\, com investimentos consistentes contínuos e duradouros\, adotand
 o estratégias de pesquisa acadêmica e gerando conhecimentos sempre na bu
 sca de inovações tecnológicas.
 &nbsp\;
 CONFIRA A PROGRAMAÇÃO COMP
 LETA NO SITE DO CONGRESSO:www.congressodemedicinaeinovacao.com
 &nbsp\;

  
LOCATION:Av. Gov. José Malcher\, 2927
DTSTART:20230819T150000Z
DTEND:20230819T160000Z
DTSTAMP:20230204T010047Z
ORGANIZER;CN=Portal de Eventos - Centro Universitário Fibra:MAILTO:eventos
 @fibrapara.edu.br
GEO:-1.448276;-48.467626
X-APPLE-STRUCTURED-LOCATION;VALUE=URI;X-ADDRESS=Av. Gov. José Malcher\, 29
 27;X-APPLE-RADIUS=72;X-TITLE=Hotel Sagres:-1.448276;-48.467626
END:VEVENT
END:VCALENDAR