BEGIN:VCALENDAR
VERSION:2.0
PRODID:Events Booking
BEGIN:VEVENT
UID:69e9fdc8c57f9
SUMMARY:Curso de Libras Nível Básico - Turma 2
DESCRIPTION:O Curso tem como objetivo desenvolver habilidades de inclusão 
 de surdos\, com estrutura bilíngue\, explorando vocabulários da Língua 
 Brasileira de Sinais (LIBRAS) e diversas situações cotidianas. Possibili
 tará\, também\, o conhecimento da cultura surda\, a produção de materi
 ais acessíveis e a melhor comunicação com o surdo. O curso é direciona
 do ao público em geral.
 Para receber o certificado\, ao final do curso\
 , o aluno precisará ter feito sua inscrição em todos os módulos e ter 
 frequência mínima de 75%.
 O curso só será realizado após&nbsp\;a in
 scrição de\, no mínimo\, 20 alunos.
 Investimento: Mensalidades de R$ 
 130\,00
 Taxa única de material: R$ 100\,00&nbsp\;
 
LOCATION:Av. Gentil Bittencourt\, 1144.
DTSTART:20240813T213000Z
DTEND:20240820T233000Z
DTSTAMP:20240730T171920Z
ORGANIZER;CN=Portal de Eventos - Centro Universitário Fibra:MAILTO:eventos
 @fibrapara.edu.br
GEO:-1.455183;-48.482397
X-APPLE-STRUCTURED-LOCATION;VALUE=URI;X-ADDRESS=Av. Gentil Bittencourt\, 11
 44.;X-APPLE-RADIUS=72;X-TITLE=Centro Universitário Fibra:-1.455183;-48.48
 2397
END:VEVENT
END:VCALENDAR