BEGIN:VCALENDAR
VERSION:2.0
PRODID:Events Booking
BEGIN:VEVENT
UID:69e8d7468dfd0
SUMMARY:Leucemia e doação de medula
DESCRIPTION:Em homenagem ao Fevereiro Laranja\, mês de conscientização s
 obre a leucemia e a importância da doação de medula óssea\, convidamos
  você para uma roda de conversa especial com especialistas da área da he
 matologia.
 Este será um momento de troca de conhecimento\, esclarecimen
 to de dúvidas e conscientização sobre essa doença e como a doação de
  medula óssea pode salvar vidas.
 Convidadas Especiais:Profª. Dra. Fát
 ima Ribeiro – Hematologista e professora do Centro Universitário Fibra.
 Profª. Dra. Ana Virgínia van den Berg – Médica hematologista do Oncoc
 entro Belém e professora da Universidade Federal do Pará.Profª. Dra. Ma
 ria do Socorro Ferreira – Médica hematologista do Instituto IHEBE.
 Ve
 nha se informar\, tirar suas dúvidas e entender como você pode fazer a d
 iferença na vida de quem precisa!
 A doação de medula óssea é um ges
 to de esperança e solidariedade.
 
LOCATION:Av. Gentil Bittencourt\, 1144.
DTSTART:20250213T170000Z
DTEND:20250213T190000Z
DTSTAMP:20250207T160351Z
ORGANIZER;CN=Portal de Eventos - Centro Universitário Fibra:MAILTO:eventos
 @fibrapara.edu.br
GEO:-1.455183;-48.482397
X-APPLE-STRUCTURED-LOCATION;VALUE=URI;X-ADDRESS=Av. Gentil Bittencourt\, 11
 44.;X-APPLE-RADIUS=72;X-TITLE=Centro Universitário Fibra:-1.455183;-48.48
 2397
END:VEVENT
END:VCALENDAR