BEGIN:VCALENDAR
VERSION:2.0
PRODID:Events Booking
BEGIN:VEVENT
UID:69e9f9c6ee189
SUMMARY:Lei de Organizações Criminosas 
DESCRIPTION:O Advogado Criminalista Luiz Araújo comenta e traz sua experi
 ência prática acerca da&nbsp\;Lei de Organizações Criminosas.
 
LOCATION:Av. Gentil Bittencourt\, 1144.
DTSTART:20240513T220000Z
DTEND:20240513T233000Z
DTSTAMP:20240513T172206Z
ORGANIZER;CN=Portal de Eventos - Centro Universitário Fibra:MAILTO:eventos
 @fibrapara.edu.br
GEO:-1.455183;-48.482397
X-APPLE-STRUCTURED-LOCATION;VALUE=URI;X-ADDRESS=Av. Gentil Bittencourt\, 11
 44.;X-APPLE-RADIUS=72;X-TITLE=Centro Universitário Fibra:-1.455183;-48.48
 2397
END:VEVENT
END:VCALENDAR