BEGIN:VCALENDAR
VERSION:2.0
PRODID:Events Booking
BEGIN:VEVENT
UID:69e9eae1c4f85
SUMMARY:Curso de Laserterapia em Feridas para Enfermagem
DESCRIPTION:O LASER é considerado uma grande inovação terapêutica com a
 plicabilidade clínica na área da enfermagem.
 No curso será abordada a
  Terapia ILIB e a Terapia Fotodinamica.
 Baseado em evidências&nbsp\;cie
 ntíficas e com demonstração da utilização do equipamento.
 CURSO TE
 ÓRICO E PRÁTICO (HÍBRIDO)
 Mínimo de 15 inscrições para iniciar o c
 urso.
 &nbsp\;
 Público alvo: Profissionais de saúde.
 
LOCATION:Av. Gentil Bittencourt\, 1144.
DTSTART:20231209T110000Z
DTEND:20231209T190000Z
DTSTAMP:20231020T011830Z
ORGANIZER;CN=Portal de Eventos - Centro Universitário Fibra:MAILTO:eventos
 @fibrapara.edu.br
GEO:-1.455183;-48.482397
X-APPLE-STRUCTURED-LOCATION;VALUE=URI;X-ADDRESS=Av. Gentil Bittencourt\, 11
 44.;X-APPLE-RADIUS=72;X-TITLE=Centro Universitário Fibra:-1.455183;-48.48
 2397
END:VEVENT
END:VCALENDAR