BEGIN:VCALENDAR
VERSION:2.0
PRODID:Events Booking
BEGIN:VEVENT
UID:69e9fa82c036c
SUMMARY:Lançamento de Livro \"Manual para criação de uma política de co
 nsensualidade nos entes públicos brasileiros\"
DESCRIPTION:
DTSTART:20250226T210000Z
DTEND:20250226T230000Z
DTSTAMP:20250220T231300Z
ORGANIZER;CN=Portal de Eventos - Centro Universitário Fibra:MAILTO:eventos
 @fibrapara.edu.br
END:VEVENT
END:VCALENDAR