BEGIN:VCALENDAR
VERSION:2.0
PRODID:Events Booking
BEGIN:VEVENT
UID:69e9f909a6198
SUMMARY:Juriscine - Her (2013)
DESCRIPTION:O JurisCine faz parte do projeto de Extensão DireitoConectado.
 Net\, que objetiva contribuir para a disseminação do conhecimento sobre 
 a relação entre Direito e Tecnologia. A plataforma digital “DireitoCon
 ectado.Net” funciona como um agregador de notícias e artigos científic
 os sobre os impactos das novas tecnologias na área jurídica\, com foco e
 special no Direito Digital. Igualmente\, almeja promover um espaço de man
 ifestação acadêmica sobre os temas abordados\, além de traçar reflex
 ões sobre futuras possibilidades jurídicas.
 Na primeira sessão do Jur
 isCine\, será exibido o filme Her\, de 2013.No filme\, agentes especiais 
 descobrem um programa inovador para atrair predadores online. Com ajuda do
  desenvolvedor\, a IA evolui além do propósito original e trazendo novos
  desafios para a equipe.
 Ao final\, teremos um debate com os participant
 es do Projeto e\, como convidada especial\, a Professora Shelley Alcolumbr
 e.
 
 
LOCATION:Av. Gentil Bittencourt\, 1144.
DTSTART:20250225T213000Z
DTEND:20250226T000000Z
DTSTAMP:20250212T012811Z
ORGANIZER;CN=Portal de Eventos - Centro Universitário Fibra:MAILTO:eventos
 @fibrapara.edu.br
GEO:-1.455183;-48.482397
X-APPLE-STRUCTURED-LOCATION;VALUE=URI;X-ADDRESS=Av. Gentil Bittencourt\, 11
 44.;X-APPLE-RADIUS=72;X-TITLE=Centro Universitário Fibra:-1.455183;-48.48
 2397
END:VEVENT
END:VCALENDAR