BEGIN:VCALENDAR
VERSION:2.0
PRODID:Events Booking
BEGIN:VEVENT
UID:69e9fa82029b7
SUMMARY:Juriscine - The Artifice Girl (2022)
DESCRIPTION:O JurisCine faz parte do projeto de Extensão DireitoConectado.
 Net\, que objetiva contribuir para a disseminação do conhecimento sobre 
 a relação entre Direito e Tecnologia. A plataforma digital “DireitoCon
 ectado.Net” funciona como um agregador de notícias e artigos científic
 os sobre os impactos das novas tecnologias na área jurídica\, com foco e
 special no Direito Digital. Igualmente\, almeja promover um espaço de man
 ifestação acadêmica sobre os temas abordados\, além de traçar reflex
 ões sobre futuras possibilidades jurídicas.
 Na segunda sessão do Juri
 sCine\, será exibido o filme The Artifice Girl\, de 2022.No filme\, agent
 es especiais descobrem um programa inovador para atrair predadores online.
  Com ajuda do desenvolvedor\, a IA evolui além do propósito original e t
 razendo novos desafios para a equipe.
 Ao final\, teremos um debate com o
 s participantes do Projeto e\, como convidada especial\, a Professora Shel
 ley Alcolumbre.
 
 
 &nbsp\;
 &nbsp\;
 &nbsp\;
LOCATION:Av. Gentil Bittencourt\, 1144.
DTSTART:20251018T120000Z
DTEND:20251018T150000Z
DTSTAMP:20250911T164057Z
ORGANIZER;CN=Portal de Eventos - Centro Universitário Fibra:MAILTO:eventos
 @fibrapara.edu.br
GEO:-1.455183;-48.482397
X-APPLE-STRUCTURED-LOCATION;VALUE=URI;X-ADDRESS=Av. Gentil Bittencourt\, 11
 44.;X-APPLE-RADIUS=72;X-TITLE=Centro Universitário Fibra:-1.455183;-48.48
 2397
END:VEVENT
END:VCALENDAR