BEGIN:VCALENDAR
VERSION:2.0
PRODID:Events Booking
BEGIN:VEVENT
UID:69e9ebb2ef367
SUMMARY:JORNADA DE PSICOLOGIA - Psicologia nas Amazônias: os atravessament
 os da realidade local nas práticas psis
DESCRIPTION:Em comemoração ao dia 27 de agosto\, Dia Nacional da(o) Psic
 ólogo(a)\, o curso de Psicologia\, do Centro Universitário Fibra\, promo
 ve uma jornada para debater as práticas psis sob os atravessamentos da re
 alidade das Amazônias. A programação possibilitará ao público partici
 pante dialogar sobre os modos como os profissionais convidados têm conduz
 ido suas práticas\, voltadas para as populações que habitam território
 s distintos e vão construindo uma identidade local que nos impõe os desa
 fios de atuar em psicologia como ciência e profissão de modo a contempla
 r as subjetividades amazônidas. Então\, não perca essa oportunidade e v
 enha debater os fazeres psis.
 &nbsp\;
 Evento aberto ao público extern
 o.
LOCATION:Av. Gentil Bittencourt\, 1144.
DTSTART:20230828T110000Z
DTEND:20230829T150000Z
DTSTAMP:20230824T213650Z
ORGANIZER;CN=Portal de Eventos - Centro Universitário Fibra:MAILTO:eventos
 @fibrapara.edu.br
GEO:-1.455183;-48.482397
X-APPLE-STRUCTURED-LOCATION;VALUE=URI;X-ADDRESS=Av. Gentil Bittencourt\, 11
 44.;X-APPLE-RADIUS=72;X-TITLE=Centro Universitário Fibra:-1.455183;-48.48
 2397
END:VEVENT
END:VCALENDAR